BEGIN:VCALENDAR
VERSION:2.0
PRODID:-//Padel Cilento - ECPv6.0.9//NONSGML v1.0//EN
CALSCALE:GREGORIAN
METHOD:PUBLISH
X-WR-CALNAME:Padel Cilento
X-ORIGINAL-URL:https://www.padelcilento.it
X-WR-CALDESC:Eventi per Padel Cilento
REFRESH-INTERVAL;VALUE=DURATION:PT1H
X-Robots-Tag:noindex
X-PUBLISHED-TTL:PT1H
BEGIN:VTIMEZONE
TZID:UTC
BEGIN:STANDARD
TZOFFSETFROM:+0000
TZOFFSETTO:+0000
TZNAME:UTC
DTSTART:20210101T000000
END:STANDARD
END:VTIMEZONE
BEGIN:VEVENT
DTSTART;TZID=UTC:20210906T000000
DTEND;TZID=UTC:20211031T235900
DTSTAMP:20260422T015420
CREATED:20210906T084240Z
LAST-MODIFIED:20210906T152452Z
UID:195-1630886400-1635724740@www.padelcilento.it
SUMMARY:Nuovo sito Padel Cilento online
DESCRIPTION:E’ online il portale PADELCILENTO.it \, il nuovo progetto di ArtProject.it in collaborazione con ASD POLISPORTIVA ANGELLARA per lanciare nel cilento un sistema di gestione e prenotazioni di campi da padel. Nel sito troverai: \n\nnotizie dal blog\neventi\, tornei\, competizioni\nun sistema di prenotazione con il quale potrai prenotare il tuo campo nelle strutture afferenti\n\nCosa aspetti? Comincia da subito a giocare a padel.\nStay tuned.
URL:https://www.padelcilento.it/event/nuovo_sito_online/
LOCATION:vallo della lucania – angellara
CATEGORIES:padel news
ATTACH;FMTTYPE=image/jpeg:https://www.padelcilento.it/wp-content/uploads/2016/06/66354650_10157580257688699_4154613069051330560_o.jpg
END:VEVENT
END:VCALENDAR